BEGIN:VCALENDAR
VERSION:2.0
PRODID:-//ITF of BC - ECPv6.15.20//NONSGML v1.0//EN
CALSCALE:GREGORIAN
METHOD:PUBLISH
X-WR-CALNAME:ITF of BC
X-ORIGINAL-URL:https://itfofbc.org
X-WR-CALDESC:Events for ITF of BC
REFRESH-INTERVAL;VALUE=DURATION:PT1H
X-Robots-Tag:noindex
X-PUBLISHED-TTL:PT1H
BEGIN:VTIMEZONE
TZID:UTC
BEGIN:STANDARD
TZOFFSETFROM:+0000
TZOFFSETTO:+0000
TZNAME:UTC
DTSTART:20230101T000000
END:STANDARD
END:VTIMEZONE
BEGIN:VEVENT
DTSTART;VALUE=DATE:20241129
DTEND;VALUE=DATE:20241201
DTSTAMP:20260420T055815
CREATED:20240710T185406Z
LAST-MODIFIED:20240824T202547Z
UID:2436-1732838400-1733011199@itfofbc.org
SUMMARY:2024 CTFI Western Canadian Championships
DESCRIPTION:
URL:https://itfofbc.org/event/2024-ctfi-western-canadian-championships-day-1/
LOCATION:Genesis Centre\, 7555 Falconridge Blvd NE\, Calgary\, Alberta\, T3J 0C9\, Canada
CATEGORIES:Tournament
ATTACH;FMTTYPE=image/jpeg:https://itfofbc.org/wp-content/uploads/2024/07/444488763_122106083672323333_3132519882902575295_n.jpg
END:VEVENT
END:VCALENDAR