BEGIN:VCALENDAR
VERSION:2.0
PRODID:-//ITF of BC - ECPv6.15.20//NONSGML v1.0//EN
CALSCALE:GREGORIAN
METHOD:PUBLISH
X-WR-CALNAME:ITF of BC
X-ORIGINAL-URL:https://itfofbc.org
X-WR-CALDESC:Events for ITF of BC
REFRESH-INTERVAL;VALUE=DURATION:PT1H
X-Robots-Tag:noindex
X-PUBLISHED-TTL:PT1H
BEGIN:VTIMEZONE
TZID:UTC
BEGIN:STANDARD
TZOFFSETFROM:+0000
TZOFFSETTO:+0000
TZNAME:UTC
DTSTART:20240101T000000
END:STANDARD
END:VTIMEZONE
BEGIN:VEVENT
DTSTART;VALUE=DATE:20251018
DTEND;VALUE=DATE:20251019
DTSTAMP:20260423T070830
CREATED:20250911T232941Z
LAST-MODIFIED:20250911T233046Z
UID:2568-1760745600-1760831999@itfofbc.org
SUMMARY:ITF of B.C. Provincial Championships
DESCRIPTION:
URL:https://itfofbc.org/event/itf-of-b-c-provincial-championships/
LOCATION:Aberdeen Hall Preparatory School\, 950 Academy Way\, Kelowna\, BC\, BC\, V1V 3A4\, Canada
ATTACH;FMTTYPE=image/png:https://itfofbc.org/wp-content/uploads/2025/09/SAVE-THE-DATE.png
END:VEVENT
BEGIN:VEVENT
DTSTART;VALUE=DATE:20251206
DTEND;VALUE=DATE:20251208
DTSTAMP:20260423T070830
CREATED:20250708T155038Z
LAST-MODIFIED:20250708T155038Z
UID:2560-1764979200-1765151999@itfofbc.org
SUMMARY:CTFI Western Canadian Taekwon-Do Championships
DESCRIPTION:
URL:https://itfofbc.org/event/ctfi-western-canadian-taekwon-do-championships/
LOCATION:Tournament Capital Centre\, 910 McGill Rd.\, Kamloopa\, BC\, V2C 6N6\, Canada
CATEGORIES:Tournament
ATTACH;FMTTYPE=image/jpeg:https://itfofbc.org/wp-content/uploads/2025/07/FB_IMG_1751989715870.jpg
END:VEVENT
BEGIN:VEVENT
DTSTART;VALUE=DATE:20260327
DTEND;VALUE=DATE:20260330
DTSTAMP:20260423T070830
CREATED:20260314T170824Z
LAST-MODIFIED:20260314T170824Z
UID:2574-1774569600-1774828799@itfofbc.org
SUMMARY:Western Canadian Athlete Development Camp
DESCRIPTION:Dear Coaches\, Athletes\, and Taekwondo Community Members\, \nYou are officially invited to attend the WESTERN ATHLETE DEVELOPMENT CAMP\, taking place March 27–29 in Prince George\, BC\, hosted at Family TKD. \nThis three-day training seminar is designed to bring together dedicated athletes and coaches from across the region to develop technical skills\, tactical awareness\, athletic performance\, and competitive mindset. The camp will focus on high-level athlete development in a structured and motivating training environment. \nParticipants can expect: \nHigh-performance sparring sessions \nTechnical and tactical development training \nStrength\, conditioning\, and movement work \nStrategy and competition preparation \nCollaboration with athletes and coaches from across Western Canada \nWhether you are preparing for upcoming competitions or looking to elevate your overall performance\, this camp provides an outstanding opportunity to train\, learn\, and grow. \nWe encourage early registration\, as space will be limited to ensure quality training sessions. \nWe look forward to welcoming you to Prince George for a weekend of hard work\, development\, and team building. \nSincerely\, \nJordan Boudreau  \nFamily TKD
URL:https://itfofbc.org/event/western-canadian-athlete-development-camp/
LOCATION:Family Taekwon-Do\, 531 2 Ave\, Prince George\, BC\, V2L 2Z8\, Canada
ATTACH;FMTTYPE=image/png:https://itfofbc.org/wp-content/uploads/2026/03/Untitled-design.png
END:VEVENT
BEGIN:VEVENT
DTSTART;VALUE=DATE:20260627
DTEND;VALUE=DATE:20260628
DTSTAMP:20260423T070830
CREATED:20260423T001151Z
LAST-MODIFIED:20260423T001215Z
UID:2580-1782518400-1782604799@itfofbc.org
SUMMARY:2026 BC Taekwon-Do Cup
DESCRIPTION:Dear Masters and Instructors\, \nAll Colour Belt and Black Belt members of the International Taekwon-Do Federation of B.C. are invited to participate in the 2026 ITF Taekwon-Do B.C. Cup in beautiful Prince George\, British Columbia. \nFor full information on the event\, please direct your competitors to the event web site at: www.itfofbc.org. \nIt is our goal to provide an outstanding and memorable experience for all participants and their supporters. This will be a well-organized event with an excellent level of competition and sportsmanship\, demonstrating the true spirit of the original ITF Taekwon-Do. \nFor the 2026 ITF Taekwon-Do B.C. Cup \, we are also pleased to provide the following features to the tournament program: \n•	Fully matted competition rings\n•	Single elimination sparring\n•	TKD Kids Divisions\n•	Board Breaking \nJoin us for the 2026 ITF Taekwon-Do B.C. Cup June 27\, 2026! \nHosted By: \nSincerely\, \nMaster Jordan Boudreau\nHost
URL:https://itfofbc.org/event/2026-bc-taekwon-do-cup/
LOCATION:Cedars Christian School\, 600 Preston Rd.\, Prince George\, BC\, V2K 1A8\, Canada
CATEGORIES:Tournament
ATTACH;FMTTYPE=image/jpeg:https://itfofbc.org/wp-content/uploads/2026/04/Picture1.jpg
END:VEVENT
END:VCALENDAR