BEGIN:VCALENDAR
VERSION:2.0
PRODID:-//ITF of BC - ECPv6.15.20//NONSGML v1.0//EN
CALSCALE:GREGORIAN
METHOD:PUBLISH
X-WR-CALNAME:ITF of BC
X-ORIGINAL-URL:https://itfofbc.org
X-WR-CALDESC:Events for ITF of BC
REFRESH-INTERVAL;VALUE=DURATION:PT1H
X-Robots-Tag:noindex
X-PUBLISHED-TTL:PT1H
BEGIN:VTIMEZONE
TZID:UTC
BEGIN:STANDARD
TZOFFSETFROM:+0000
TZOFFSETTO:+0000
TZNAME:UTC
DTSTART:20250101T000000
END:STANDARD
END:VTIMEZONE
BEGIN:VEVENT
DTSTART;VALUE=DATE:20260627
DTEND;VALUE=DATE:20260628
DTSTAMP:20260423T143444
CREATED:20260423T001151Z
LAST-MODIFIED:20260423T001215Z
UID:2580-1782518400-1782604799@itfofbc.org
SUMMARY:2026 BC Taekwon-Do Cup
DESCRIPTION:Dear Masters and Instructors\, \nAll Colour Belt and Black Belt members of the International Taekwon-Do Federation of B.C. are invited to participate in the 2026 ITF Taekwon-Do B.C. Cup in beautiful Prince George\, British Columbia. \nFor full information on the event\, please direct your competitors to the event web site at: www.itfofbc.org. \nIt is our goal to provide an outstanding and memorable experience for all participants and their supporters. This will be a well-organized event with an excellent level of competition and sportsmanship\, demonstrating the true spirit of the original ITF Taekwon-Do. \nFor the 2026 ITF Taekwon-Do B.C. Cup \, we are also pleased to provide the following features to the tournament program: \n•	Fully matted competition rings\n•	Single elimination sparring\n•	TKD Kids Divisions\n•	Board Breaking \nJoin us for the 2026 ITF Taekwon-Do B.C. Cup June 27\, 2026! \nHosted By: \nSincerely\, \nMaster Jordan Boudreau\nHost
URL:https://itfofbc.org/event/2026-bc-taekwon-do-cup/
LOCATION:Cedars Christian School\, 600 Preston Rd.\, Prince George\, BC\, V2K 1A8\, Canada
CATEGORIES:Tournament
ATTACH;FMTTYPE=image/jpeg:https://itfofbc.org/wp-content/uploads/2026/04/Picture1.jpg
END:VEVENT
END:VCALENDAR